BEGIN:VCALENDAR
VERSION:2.0
PRODID:-//Ziber2013/
CALSCALE:GREGORIAN
BEGIN:VEVENT
UID:260604@https://www.scagondeluxe.nl
DTSTART:20260531T150000
DTEND:20260531T170000
SUMMARY:Judith Wognum - Zingen met Judith
DESCRIPTION:<p><b>[url|https://tickets.scagondeluxe.nl/nl-NL/Show/Details/Judith-Wognum-Zingen-met-Judith-31-mei-1493|Tickets: zondagmiddag 15:00u|int]\n____________________________________________________________________________________________________</b></p><p><b><i>Zingen met Judith</i></b><i>: Een unieke ervaring in de kracht van samenzang.</i></p><p> </p><p>'A One Woman’s Band’  met een steeds wisselend repertoire afgestemd op de wens van het publiek.  Begeleid door haar zang\, pianospel en footdrum\, nodigen een mix van de hits van nu en de echte klassiekers je uit\, om samen te klinken als één. De teksten van de liedjes zijn hierbij op groot scherm te volgen.</p><p>Judith Wognum is als zangcoach verbonden aan het conservatorium Haarlem. Zij dirigeert verschillende zanggroepen en schrijft liedjes. Haar passie ligt in het muzikaal verbinden van jong en oud\, professionals\, amateurs en alles daartussen in</p><p>Dit meezing concert is een unieke ervaring in de kracht van samenzang.</p><p> </p><p>Entree: € 12\,50 - Jeugd t/m 18 jaar € 7\,50.</p>
LOCATION:Scagon De Luxe Theater & Filmhuis\, Torenstraat 1B\, 1741 CB Schagen
ATTACH;FMTTYPE=image/jpeg:/content/32126/agenda/clnt/c4c247bd15cd4f7988dce225f4c22e3e.jpg?width=1600&height=1200
SEQUENCE:0
DTSTAMP:20260422T104440
END:VEVENT
END:VCALENDAR
