BEGIN:VCALENDAR
VERSION:2.0
PRODID:-//Ziber2013/
CALSCALE:GREGORIAN
BEGIN:VEVENT
UID:260371@https://www.scagondeluxe.nl
DTSTART:20260515T200000
DTEND:20260515T221000
SUMMARY:Rental Family 
DESCRIPTION:<p><b>[url|https://tickets.scagondeluxe.nl/nl-NL/Show/Details/Rental-Family-15-mei-1471|Tickets: vrijdagavond 20:00u|int] __________________________________________________________________________</b></p><p>2025\, Japan\, Verenigde Staten\, Hikari</p><p>In het hedendaagse Tokio volgt 'Rental Family' een Amerikaanse acteur die worstelt om betekenis te vinden in zijn leven\, totdat hij een bijzondere baan krijgt: hij gaat werken voor een Japans bedrijf dat "familieleden" verhuurt\, waarbij hij diverse rollen speelt in het leven van vreemden. Het is een film over eenzaamheid\, menselijke verbinding en de grenzen tussen acteren en werkelijkheid. </p><p>Cast Brendan Fraser\, Mari Yamamoto\, Takehiro Hira\, Shannon Gorman</p><p>Entree: € 10\,00</p>
LOCATION:Scagon De Luxe Theater & Filmhuis\, Torenstraat 1B\, 1741 CB Schagen
ATTACH;FMTTYPE=image/jpeg:/content/32126/agenda/clnt/4dca67f23cba4281b42ce114119d1687.jpg?width=1600&height=1200
SEQUENCE:0
DTSTAMP:20260423T104250
END:VEVENT
END:VCALENDAR
